BEGIN:VCALENDAR
VERSION:2.0
PRODID:-//AudioTheme 3.0.2
BEGIN:VEVENT
UID:urn:uuid:dbab3612-3712-484c-bc08-d490f50d41e9
URL:https://www.chambermusicatbethany.com/concerts/cmb-presents-simple-lines-music-of-marc-mellits-and-bill-ryan/
DTSTART;TZID=GMT:20231202T200000
SUMMARY:CM@B presents Simple Lines: Music of Marc Mellits and Bill Ryan
DESCRIPTION:CM@B presents Simple Lines: Music of Marc Mellits and Bill Ryan\, featuring clarinetist Andy Hudson and cellist Nick Photinos
LOCATION:Bethany United Church of Christ\, 4250 North Paulina St.\, Chicago\, IL\, United States\, 60613
END:VEVENT
END:VCALENDAR
